BEGIN:VCALENDAR
VERSION:2.0
PRODID:-//Tukios.com/
BEGIN:VEVENT
UID:23252f6d-2e05-4fd4-aed7-667a2b1196bd@www.dolbyblaissegee.com
DTSTAMP:20260421T164912Z
DTSTART:20260425T140000Z
DTEND:20260425T150000Z
SUMMARY:Memorial Service
DESCRIPTION:
URL:https://www.dolbyblaissegee.com/obituaries/linda-benway
LOCATION:Dolby, Blais & Segee 35 Church Street  Westbrook ME 04092
GEO:43.675287;-70.3660394
END:VEVENT
END:VCALENDAR