BEGIN:VCALENDAR
VERSION:2.0
PRODID:-//Tukios.com/
BEGIN:VEVENT
UID:e6f4951e-c26b-4a86-8d46-543006e22e2c@www.dolbyblaissegee.com
DTSTAMP:20260424T233631Z
DTSTART:20260517T180000Z
DTEND:20260517T210000Z
SUMMARY:Celebration of Life
DESCRIPTION:
URL:https://www.dolbyblaissegee.com/obituaries/george-towle
LOCATION:Shipyard Tap Room 27 Hancock Street  Portland ME 04101
GEO:43.661702;-70.2483834
END:VEVENT
END:VCALENDAR