BEGIN:VCALENDAR
VERSION:2.0
PRODID:-//Tukios.com/
BEGIN:VEVENT
UID:b60a2723-2324-4fa7-b008-e8c51b552376@www.dolbyblaissegee.com
DTSTAMP:20260423T171437Z
DTSTART:20260613T160000Z
DTEND:20260613T170000Z
SUMMARY:Burial
DESCRIPTION:
URL:https://www.dolbyblaissegee.com/obituaries/daniel-kornegay-ii
LOCATION:Mayberry Cemetery 33 Park Rd.  Windham ME 04062
GEO:43.787447;-70.432477
END:VEVENT
END:VCALENDAR