BEGIN:VCALENDAR
VERSION:2.0
PRODID:-//Tukios.com/
BEGIN:VEVENT
UID:fe5d86de-6b6c-45d1-9796-df7d88e83634@www.dolbyblaissegee.com
DTSTAMP:20260423T171135Z
DTSTART:20260613T150000Z
DTEND:20260613T160000Z
SUMMARY:Funeral Service
DESCRIPTION:
URL:https://www.dolbyblaissegee.com/obituaries/daniel-kornegay-ii
LOCATION:Dolby, Blais & Segee Funeral Home 434 River Road  Windham ME 
	04062
GEO:43.7485949;-70.4291583
END:VEVENT
END:VCALENDAR