BEGIN:VCALENDAR
VERSION:2.0
PRODID:-//Tukios.com/
BEGIN:VEVENT
UID:1932212e-dcc1-4588-9708-fe21bebf0eac@www.dolbyblaissegee.com
DTSTAMP:20260423T171437Z
DTSTART:20260613T140000Z
DTEND:20260613T150000Z
SUMMARY:Visitation
DESCRIPTION:
URL:https://www.dolbyblaissegee.com/obituaries/daniel-kornegay-ii
LOCATION:Dolby, Blais & Segee Funeral Home 434 River Road  Windham ME 
	04062
GEO:43.7485949;-70.4291583
END:VEVENT
END:VCALENDAR